Workbook
Name addlogo: INDEX(#REF!,MATCH(#REF!,#REF!,0))
Name DKCO: #REF!
Name DKNO: #REF!
Name Donvi: #REF!
Name LM: #REF!
Name LN: #REF!
Name Taikhoan: #REF!
Name TaxTV: 10%
Name TaxXL: 5%
Name TK_BS: #REF!
Name TK_PL: #REF!
Name TK_TB: #REF!
Name TKBS: #REF!
Name Ý_kiến: #REF!
Name YKien: #REF!
Name ZYX: #REF!
Name ZZZ: #REF!

Sheet Tong quat
A1: Kỳ báo cáo: | C1: Tại ngày 31 tháng 03 năm 2024/As at 31 March 2024
C2: Quý I năm 2024/ Quarter I 2024
A4: Thông tin chung:
C5: Tên Quỹ: | D5: Quỹ Đầu Tư Trái Phiếu Lighthouse
C6: Fund name: | D6: Lighthouse Capital Bond Fund (LHBF)
C7: Tên Công ty quản lý quỹ: | D7: Công Ty Cổ Phần Quản Lý Quỹ Đầu Tư Lighthouse
C8: Fund Management Company: | D8: Lighthouse Capital Fund Management Joint Stock Company
C9: Tên ngân hàng giám sát: | D9: Ngân hàng TMCP Đầu tư và Phát triển Việt Nam CN Nam Kỳ Khởi Nghĩa
C10: Supervising bank: | D10: Bank for Investment and Development of VietNam JSC - Nam Ky Khoi Nghia Branch
C11: Ngày lập báo cáo: | D11: Ngày 10 tháng 04 năm 2024
C12: Reporting Date: | D12: 45392
A14: Người ký báo cáo:
C16: Đại diện có thẩm quyền của Ngân hàng giám sát | F16: Đại diện có thẩm quyền của Công ty quản lý Quỹ
C17: Authorised Representative of Supervisory Bank | F17: Authorised Representative of Fund Management Company
C19: NH TMCP ĐT & PT Việt Nam CN Nam Kỳ Khởi Nghĩa | F19: Công Ty Cổ Phần Quản Lý Quỹ Đầu Tư Lighthouse
C20: Lê Đoàn Nhật Quang | F20: Nguyễn Lê Đình Quang
C21: Phó giám đốc Chi nhánh | F21: Tổng Giám Đốc
B27: STT | C27: Nội dung | E27: Tên sheet
B28: A | C28: BÁO CÁO CHUNG VỀ HOẠT ĐỘNG ĐẦU TƯ CỦA QUỸ
B29: 1 | C29: Báo cáo thu nhập | E29: BCThuNhap_06203
B30: 2 | C30: Báo cáo tình hình tài chính | E30: BCTinhHinhTaiChinh_06105
B31: 3 | C31: Báo cáo lưu chuyển tiền tệ | E31: BCLCGT_06262
B32: 4 | C32: Báo cáo tài sản | E32: BCTaiSan_06027
B33: 5 | C33: Baó cáo Kết quả hoạt động | E33: BCKetQuaHoatDong_06028
B34: 6 | C34: Baáo cáo Danh mục đầu tư | E34: BCDanhmucdautu_06029
B35: 7 | C35: Giá trị tài sản ròng | E35: GiaTriTaiSanRong_06129
B36: 8 | C36: Báo cáo hoạt động vay | E36: Bchoatdongvay_06026
B37: 9 | C37: Báo cáo chỉ tiêu khác | E37: Khac_06030
B38: 10 | C38: Thống kê phí giao dịch
B39: B | C39: BÁO CÁO TÌNH HÌNH TỰ DOANH ĐẦU TƯ GIÁN TIẾP RA NƯỚC NGOÀI CỦA QUỸ | E39: Không có
B42: Thống kê các Thuyết minh BCTC
D44: Có trình bày Y/N/O | E44: Nguyên nhân không trình bày
B45: 1/ | C45: Tiền gửi Ngân hàng | D45: Y
B46: 2/ | C46: Các khoản đầu tư | D46: Y
B47: 3/ | C47: Các khoản dự phòng | D47: O | E47: Không có khoản mục này không phải trình bày
B48: 4/ | C48: Vay ngắn hạn | D48: N | E48: Không có số dư không trình bày
B49: 5/ | C49: Phải trả mua các khoản đầu tư | D49: N | E49: Không có số dư không trình bày
B50: 6/ | C50: Phải trả các Đại lý phân phối, Công ty Quản lý quỹ về phí phát hành và mua lại Chứng chỉ quỹ | D50: N | E50: Trên báo cáo chính đã chi tiết theo từng khoản mục
B51: 7/ | C51: Thuế và các khoản phải nộp Nhà nước | D51: N | E51: Không bắt buộc, Quỹ chỉ có khoản mục thuế từ hoạt động mua bán CCQ và Thù lao BDD
B52: 8/ | C52: Phải trả thu nhập cho Nhà đầu tư | D52: N | E52: Quỹ nào có chia cổ tức mới trình bày
...

Sheet BCThuNhap_06203
A1: Mẫu số B01g - QM. Báo cáo thu nhập Template B01g - QM. Statement of Comprehensive Income
A2: (Ban hành kèm theo Thông tư 198/2012/TT-BTC ngày 15 tháng 11 năm 2012 về chế độ kế toán áp dụng đối với quỹ mở) (Issued in association with Circular 198/2012/TT-BTC dated 15 Nov 2012 on the Accounting Policies for Open-Ended Fund)
A3: BÁO CÁO THU NHẬP STATEMENT OF COMPREHENSIVE INCOME
A5: Quý I năm 2024/ Quarter I 2024
A7: Tên Quỹ: | B7: Quỹ Đầu Tư Trái Phiếu Lighthouse
A8: Fund name: | B8: Lighthouse Capital Bond Fund (LHBF)
A9: Tên Công ty quản lý quỹ: | B9: Công Ty Cổ Phần Quản Lý Quỹ Đầu Tư Lighthouse
A10: Fund Management Company: | B10: Lighthouse Capital Fund Management Joint Stock Company
A11: Tên ngân hàng giám sát: | B11: Ngân hàng TMCP Đầu tư và Phát triển Việt Nam Chi nhánh Nam Kỳ Khởi Nghĩa
A12: Supervising bank: | B12: Bank for Investment and Development of VietNam JSC - Nam Ky Khoi Nghia Branch
A13: Ngày lập báo cáo: | B13: Ngày 10 tháng 04 năm 2024
A14: Reporting Date: | B14: 45392
A16: Chỉ tiêu Indicator | B16: Mã số Code | C16: Thuyết minh Note | D16: Năm 2024 Year 2024 | F16: Năm 2023 Year 2023
D17: Quý I năm 2024 Quarter I 2024 | E17: Số lũy kế Year-to-date | F17: Quý I năm 2023 Quarter I 2023 | G17: Số lũy kế Year-to-date
A18: I. THU NHẬP, DOANH THU HOẠT ĐỘNG ĐẦU TƯ Investment income | B18: 01 | D18: 1975434337 | E18: 1975434337 | F18: 2564227468 | G18: 2564227468
A19: 1.1. Cổ tức, trái tức được chia Dividend, bond interest received | B19: 02 | D19: 1088544619 | E19: 1088544619 | F19: 848671198 | G19: 848671198
A20: Cổ tức được nhận Dividend received | B20: 02.1 | D20: 0 | E20: 0 | F20: 0 | G20: 0
A21: Trái tức được nhận Coupon received | B21: 02.2 | D21: 1088544619 | E21: 1088544619 | F21: 848671198 | G21: 848671198
A22: 1.2. Tiền lãi được nhận Interest income | B22: 03 | D22: 63204506 | E22: 63204506 | F22: 13052133 | G22: 13052133
A23: Tiền lãi tiền gửi được nhận Bank Deposit Interest received | B23: 03.1 | D23: 155192 | E23: 155192 | F23: 13052133 | G23: 13052133
A24: Lãi chứng chỉ tiền gửi Interest income from Certificate of Deposit | B24: 03.2 | D24: 63049314 | E24: 63049314 | F24: 0 | G24: 0
A25: 1.3. Lãi (lỗ) bán các khoản đầu tư Realized gain (losses) from disposal investments | B25: 04 | D25: 975129589 | E25: 975129589 | F25: 134310000 | G25: 134310000
A26: 1.4. Chênh lệch tăng, giảm đánh giá lại các khoản đầu tư chưa thực hiện Unrealized gain (losses) from investment revaluation | B26: 05 | D26: -151444377 | E26: -151444377 | F26: 1568194137 | G26: 1568194137
A27: 1.5. Doanh thu khác Other income | B27: 06 | D27: 0 | E27: 0 | F27: 0 | G27: 0
A28: 1.6. Chênh lệch lãi, lỗ tỷ giá hối đoái đã và chưa thực hiện Realized and unrealized gain (losses) from foreign exchange | B28: 07 | D28: 0 | E28: 0 | F28: 0 | G28: 0
A29: 1.7. Doanh thu khác về đầu tư Other investment income | B29: 08 | D29: 0 | E29: 0 | F29: 0 | G29: 0
... A32: 2.1. Chi phí giao dịch mua, bán các khoản đầu tư Expense for purchasing and selling investments | B32: 11 | D32: 5973132 | E32: 5973132 | F32: 37235923 | G32: 37235923
A33: Phí môi giới Brokerage fee | B33: 11.1 | D33: 5973132 | E33: 5973132 | F33: 37235923 | G33: 37235923
A34: Chi phí thanh toán bù trừ Clearing settlement fee | B34: 11.2 | D34: 0 | E34: 0 | F34: 0 | G34: 0
A35: 2.2. Chi phí dự phòng nợ phải thu khó đòi và xử lý tổn thất phải thu khó đòi Provision expense | B35: 12 | D35: 0 | E35: 0 | F35: 0 | G35: 0
A36: 2.3. Chi phí lãi vay Borrowing interest expense | B36: 13 | D36: 0 | E36: 0 | F36: 0 | G36: 0
A37: 2.4. Chi phí dự phòng giảm giá tài sản nhận thế chấp và xử lý tổn thất các khoản đầu tư cho vay có tài sản nhận thế chấp Impairment expense for devaluation of assets received as pledge | B37: 14 | D37: 0 | E37: 0 | F37: 0 | G37: 0
A38: 2.5. Chi phí đầu tư khác Other investments expense | B38: 15 | D38: 0 | E38: 0 | F38: 0 | G38: 0
A39: III. CHI PHÍ HOẠT ĐỘNG CỦA QUỸ OPERATING EXPENSE | B39: 20 | D39: 342762056 | E39: 342762056 | F39: 330813113 | G39: 330813113
A40: 3.1. Phí quản lý Quỹ mở Management fee | B40: 20.1 | D40: 162288671 | E40: 162288671 | F40: 128417906 | G40: 128417906
A41: 3.2. Phí dịch vụ lưu ký tài sản Quỹ mở Custodian fee | B41: 20.2 | D41: 47487039 | E41: 47487039 | F41: 46832677 | G41: 46832677
A42: Phí dịch vụ lưu ký - bảo quản tài sản Custodian service - Custody Fee | B42: 20.2.1 | D42: 45000000 | E42: 45000000 | F42: 45000000 | G42: 45000000
A43: Phí dịch vụ lưu ký - giao dịch chứng khoán Custodian service - Transaction fee | B43: 20.2.2 | D43: 1800000 | E43: 1800000 | F43: 1200000 | G43: 1200000
A44: Phí dịch vụ lưu ký - phí VSD Custodian service - VSD fee | B44: 20.2.3 | D44: 687039 | E44: 687039 | F44: 632677 | G44: 632677
A45: 3.3. Phí dịch vụ giám sát Supervising fee | B45: 20.3 | D45: 16500000 | E45: 16500000 | F45: 16500000 | G45: 16500000
...

Sheet BCTinhHinhTaiChinh_06105
A1: Mẫu số B02g - QM. Báo cáo tình hình tài chính Template B02g - QM. Statement of Financial Position
A2: (Ban hành kèm theo Thông tư 198/2012/TT-BTC ngày 15 tháng 11 năm 2012 về chế độ kế toán áp dụng đối với quỹ mở) (Issued in association with Circular 198/2012/TT-BTC dated 15 Nov 2012 on the Accounting Policies for Open-Ended Fund)
A3: BÁO CÁO TÌNH HÌNH TÀI CHÍNH STATEMENT OF FINANCIAL POSITION
A5: Tại 31 tháng 03 năm 2024/As at 31 March 2024
A7: Tên Quỹ: | B7: Quỹ Đầu Tư Trái Phiếu Lighthouse
A8: Fund name: | B8: Lighthouse Capital Bond Fund (LHBF)
A9: Tên Công ty quản lý quỹ: | B9: Công Ty Cổ Phần Quản Lý Quỹ Đầu Tư Lighthouse
A10: Fund Management Company: | B10: Lighthouse Capital Fund Management Joint Stock Company
A11: Tên ngân hàng giám sát: | B11: Ngân hàng TMCP Đầu tư và Phát triển Việt Nam Chi nhánh Nam Kỳ Khởi Nghĩa
A12: Supervising bank: | B12: Bank for Investment and Development of VietNam JSC - Nam Ky Khoi Nghia Branch
A13: Ngày lập báo cáo: | B13: Ngày 10 tháng 04 năm 2024
A14: Reporting Date: | B14: 45392
A16: Chỉ tiêu Indicator | B16: Mã số Code | C16: Thuyết minh Note | D16: Ngày 31 tháng 03 năm 2024 As at 31 Mar 2024 | E16: Ngày 31 tháng 12 năm 2023 As at 31 December 2023 | I16: Ngày 28 tháng 02 năm 2019 As at 28 February 2019
A17: I. TÀI SẢN ASSETS
A18: 1.Tiền gửi ngân hàng và tương đương tiền Cash at bank and cash equivalent | B18: 110 | D18: 9702153283 | E18: 10693862518 | I18: 29799258648 | J18: 729768413
A19: 1.1. Tiền gửi ngân hàng cho hoạt động của Quỹ mở Cash at bank for Fund's operation | B19: 111 | D19: 5702153283 | E19: 2693862518 | I19: 9361428215 | J19: 611101479
A20: Tiền gửi của nhà đầu tư cho hoạt động mua chứng chỉ quỹ Cash at bank for Fund's subscription | B20: 111.1 | D20: 178640000 | E20: 133910331
A21: Tiền phải trả cho Nhà đầu tư về mua lại chứng chỉ quỹ Cash at bank for Fund's redemption | B21: 111.2 | D21: 0 | E21: 0
A22: Tiền gửi ngân hàng cho hoạt động của Quỹ Cash at bank for Fund's operation | B22: 111.3 | D22: 5523513283 | E22: 2559952187
A23: 1.2. Tiền gửi có kỳ hạn dưới 3 tháng Term deposit less than 3 months | B23: 112 | D23: 4000000000 | E23: 8000000000 | I23: 20437830433 | J23: 118666934
A24: 2. Các khoản đầu tư thuần Investment | B24: 120 | D24: 58373482757 | E24: 51525577100 | I24: 46113652000 | J24: -267466000
A25: 2.1. Các khoản đầu tư Investments | B25: 121 | D25: 58373482757 | E25: 51525577100 | I25: 46113652000 | J25: -267466000
A26: Cổ phiếu niêm yết Listed shares | B26: 121.1 | D26: 7381278000 | E26: 8159796000 | I26: 43113652000 | J26: -267466000
A27: Cổ phiếu chưa niêm yết Unlisted shares | B27: 121.2 | D27: 0 | E27: 0 | I27: 0
A28: Trái phiếu Bonds | B28: 121.3 | D28: 50992204757 | E28: 39365781100 | I28: 0 | J28: 0
A29: Hợp đồng tiền gửi có kỳ hạn trên ba (03) tháng Deposit with term over three (03) months | B29: 121.4 | D29: 0 | E29: 0 | I29: 3000000000 | J29: 0
A30: Chứng chỉ tiền gửi ghi danh Registered Deposit Certificate | B30: 121.5 | D30: 0 | E30: 4000000000 | I30: 0 | J30: 0
A31: Quyền mua chứng khoán Investments - Rights | B31: 121.6 | D31: 0 | E31: 0 | I31: 0 | J31: 0
A32: 2.2. Dự phòng giảm giá tài sản nhận thế chấp Impairment of devaluation of assets as pledge | B32: 122 | D32: 0 | E32: 0 | I32: 0 | J32: 0
A33: 3. Các khoản phải thu Receivables | B33: 130 | D33: 655870574 | E33: 863582461 | I33: 473787186 | J33: -61449754
A34: 3.1 Phải thu về bán các khoản đầu tư Receivables from investments sold but not yet settled | B34: 131 | D34: 0 | E34: 0 | I34: 285571000 | J34: -58238511
A35: 3.2. Phải thu và dự thu cổ tức, tiền lãi các khoản đầu tư Dividend and interest receivables | B35: 133 | D35: 655870574 | E35: 863582461 | I35: 188216186 | J35: -3211243
A36: Phải thu cổ tức, tiền lãi đến ngày nhận Dividend and interest receivables | B36: 134 | D36: 0 | E36: 0 | I36: 0 | J36: 0
A37: Trong đó: Phải thu khó đòi về cổ tức, tiền lãi đến ngày nhận nhưng chưa nhận được In which: Overdue receivables from dividend, interest income | B37: 135 | D37: 0 | E37: 0 | J37: 0
A38: Dự thu cổ tức, tiền lãi chưa đến ngày nhận Accrual dividend, interest income | B38: 136 | D38: 655870574 | E38: 863582461 | I38: 188216186 | J38: -3211243
A39: Phải thu cổ tức Dividend receivable | B39: 136.1 | D39: 0 | E39: 0 | I39: 0 | J39: 0
A40: Phải thu lãi tiền gửi có kỳ hạn Interest receivable from term deposit | B40: 136.2 | D40: 2104110 | E40: 8695891 | I40: 188216186 | J40: -3211243
A41: Phải thu lãi chứng chỉ tiền gửi ghi danh Interest receivable from registered Deposit Certificate | B41: 136.3 | D41: 0 | E41: 87476713 | I41: 0 | J41: 0
A42: Phải thu trái tức Coupond receivable | B42: 136.4 | D42: 653766464 | E42: 767409857 | I42: 0 | J42: 0
A43: Phải thu lãi hợp đồng mua lại đảo ngược Interest receivable from reverse repo contract | B43: 136.5 | D43: 0 | E43: 0 | I43: 0 | J43: 0
...

Sheet BCTaiSan_06027
A1: Phụ lục XXVI. Mẫu báo cáo về hoạt động của Quỹ Appendix XXVI. Report on Fund's Operation | H1: ok
A2: (Ban hành kèm theo Thông tư số 98/2020/TT-BTC ngày 16 tháng 11 năm 2020 của Bộ trưởng Bộ Tài Chính về hướng dẫn hoạt động và quản lý quỹ đầu tư chứng khoán (Issued in association with Circular 98/2020/TT-BTC dated 16 November 2020 of the Minister of Finance on guiding the operation and management of the securities investment funds
A3: BÁO CÁO HOẠT ĐỘNG ĐẦU TƯ CỦA QUỸ MỞ REPORT ON FUND'S INVESTMENT ACTIVITIES
A5: Tại 31 tháng 03 năm 2024/As at 31 March 2024
A7: Tên Quỹ: | C7: Quỹ Đầu Tư Trái Phiếu Lighthouse
A8: Fund name: | C8: Lighthouse Capital Bond Fund (LHBF)
A9: Tên Công ty quản lý quỹ: | C9: Công Ty Cổ Phần Quản Lý Quỹ Đầu Tư Lighthouse
A10: Fund Management Company: | C10: Lighthouse Capital Fund Management Joint Stock Company
A11: Tên ngân hàng giám sát: | C11: Ngân hàng TMCP Đầu tư và Phát triển Việt Nam CN Nam Kỳ Khởi Nghĩa
A12: Supervising bank: | C12: Bank for Investment and Development of VietNam JSC - Nam Ky Khoi Nghia Branch
A13: Ngày lập báo cáo: | C13: Ngày 10 tháng 04 năm 2024
A14: Reporting Date: | C14: 45392
A15: A. | B15: BÁO CÁO CHUNG VỀ HOẠT ĐỘNG ĐẦU TƯ CỦA QUỸ/GENERAL INFORMATION ON FUND'S INVESTMENT ACTIVITIES
A16: I | B16: BÁO CÁO TÀI SẢN CỦA QUỸ / ASSET REPORT
A17: STT No | B17: Nội dung Indicator | C17: Mã chỉ tiêu Code | D17: Ngày 31 tháng 03 năm 2024 As at 31 Mar 2024 | E17: Ngày 31 tháng 12 năm 2023 As at 31 December 2023 | F17: %/cùng kỳ năm trước %/against last year | K17: Ngày 30 tháng 04 năm 2018 As at 30 Apr 2018
A18: I | B18: TÀI SẢN ASSETS | C18: 2200 | K18: 0
A19: I.1 | B19: Tiền và các khoản tương đương tiền Cash and Cash Equivalents | C19: 2201 | D19: 9702153283 | E19: 10693862518 | F19: 678.22971 | K19: 18924296298
B20: Tiền Cash | C20: 2202 | D20: 0 | E20: 0 | F20: 0 | K20: 0
B21: Tiền gửi ngân hàng Cash at Bank | C21: 2203 | D21: 5702153283 | E21: 2693862518 | F21: 1324.507 | K21: 10834088082
B22: Tiền gửi của nhà đầu tư cho hoạt động mua chứng chỉ quỹ Cash at bank for Fund's subscription | C22: 2203.1 | D22: 178640000 | E22: 133910331 | F22: 0
B23: Tiền phải trả cho Nhà đầu tư về mua lại chứng chỉ quỹ Cash at bank for Fund's redemption | C23: 2203.2 | D23: 0 | E23: 0 | F23: 0
B24: Tiền gửi ngân hàng cho hoạt động của Quỹ Cash at bank for Fund's operation | C24: 2203.3 | D24: 5523513283 | E24: 2559952187 | F24: 1283.0121
B25: Các khoản tương đương tiền Cash Equivalents | C25: 2204 | D25: 4000000000 | E25: 8000000000 | F25: 400 | K25: 8090208216
A26: I.2 | B26: Các khoản đầu tư (kê chi tiết) Investments | C26: 2205 | D26: 58373482757 | E26: 51525577100 | F26: 115.50202 | K26: 54380270000
B27: Cổ phiếu niêm yết Listed shares | C27: 2205.01 | D27: 7381278000 | E27: 8159796000 | F27: 70.600729 | K27: 54104270000
B28: Cổ phiếu chưa niêm yết Unlisted shares | C28: 2205.02 | D28: 0 | E28: 0 | F28: 0 | K28: 0
B29: Trái phiếu Bonds | C29: 2205.03 | D29: 50992204757 | E29: 39365781100 | F29: 127.21346 | K29: 0
B30: Hợp đồng tiền gửi có kỳ hạn quá ba (03) tháng Deposit with term over three (03) months | C30: 2205.04 | D30: 0 | E30: 0 | F30: 0 | K30: 0
B31: Chứng chỉ tiền gửi ghi danh Registered Deposit Certificate | C31: 2205.05 | D31: 0 | E31: 4000000000 | F31: 0 | K31: 0
B32: Quyền mua chứng khoán Investments - Rights | C32: 2205.06 | D32: 0 | E32: 0 | F32: 0 | K32: 276000000
A33: I.3 | B33: Cổ tức, trái tức được nhận Dividend, Coupon Receivables | C33: 2206 | D33: 653766464 | E33: 767409857 | F33: 88.317718 | K33: 182000000 | L33: 778289314
B34: Cổ tức được nhận Dividend receivables | C34: 2206.1 | D34: 0 | E34: 0 | F34: 0
B35: Trái tức được nhận Coupon Receivables | C35: 2206.2 | D35: 653766464 | E35: 767409857 | F35: 88.317718
A36: I.4 | B36: Lãi được nhận Interest Receivables | C36: 2207 | D36: 2104110 | E36: 96172604 | F36: 142.22226 | K36: 31954902
B37: Phải thu lãi tiền gửi có kỳ hạn Interest receivable from term deposit | C37: 2207.1 | D37: 2104110 | E37: 8695891 | F37: 142.22226 | K37: 31954902
B38: Phải thu lãi chứng chỉ tiền gửi ghi danh Interest receivable from registered Deposit Certificate | C38: 2207.2 | D38: 0 | E38: 87476713 | F38: 0 | K38: 0
A39: I.5 | B39: Tiền bán chứng khoán chờ thu Securities Trading Receivables | C39: 2208 | D39: 0 | E39: 0 | F39: 0 | K39: 838678093
A40: I.6 | B40: Các khoản phải thu khác Other Receivables | C40: 2210 | D40: 0 | E40: 0 | F40: 0 | K40: 0
A41: I.7 | B41: Các tài sản khác Other Assets | C41: 2211 | D41: 0 | E41: 0 | F41: 0 | H41: checking | K41: 0
A42: I.8 | B42: TỔNG TÀI SẢN TOTAL ASSETS | C42: 2212 | D42: 68731506614 | E42: 63083022079 | F42: 130.39269 | H42: 77161857907 | I42: 76787550493 | K42: 74357199293
...

Sheet BCKetQuaHoatDong_06028
A1: Phụ lục XXVI. Mẫu báo cáo về hoạt động của Quỹ Appendix XXVI. Report on Fund's Operation
A2: (Ban hành kèm theo Thông tư số 98/2020/TT-BTC ngày 16 tháng 11 năm 2020 của Bộ trưởng Bộ Tài Chính về hướng dẫn hoạt động và quản lý quỹ đầu tư chứng khoán (Issued in association with Circular 98/2020/TT-BTC dated 16 November 2020 of the Minister of Finance on guiding the operation and management of the securities investment funds
A3: BÁO CÁO HOẠT ĐỘNG ĐẦU TƯ CỦA QuỸ MỞ REPORT ON FUND'S INVESTMENT ACTIVITIES
A5: Quý I năm 2024/ Quarter I 2024
A7: Tên Quỹ: | C7: Quỹ Đầu Tư Trái Phiếu Lighthouse
A8: Fund name: | C8: Lighthouse Capital Bond Fund (LHBF)
A9: Tên Công ty quản lý quỹ: | C9: Công Ty Cổ Phần Quản Lý Quỹ Đầu Tư Lighthouse
A10: Fund Management Company: | C10: Lighthouse Capital Fund Management Joint Stock Company
A11: Tên ngân hàng giám sát: | C11: Ngân hàng TMCP Đầu tư và Phát triển Việt Nam Chi nhánh Nam Kỳ Khởi Nghĩa
A12: Supervising bank: | C12: Bank for Investment and Development of VietNam JSC - Nam Ky Khoi Nghia Branch
A13: Ngày lập báo cáo: | C13: Ngày 10 tháng 04 năm 2024
A14: Reporting Date: | C14: 45392
A15: A. | B15: BÁO CÁO CHUNG VỀ HOẠT ĐỘNG ĐẦU TƯ CỦA QUỸ/GENERAL INFORMATION ON FUND'S INVESTMENT ACTIVITIES
A16: II | B16: BÁO CÁO KẾT QUẢ HOẠT ĐỘNG / PROFIT AND LOSS REPORT
A17: STT No | B17: Chỉ tiêu Indicator | C17: Mã chỉ tiêu Code | D17: Quý I năm 2024 Quarter I 2024 | E17: Quý IV năm 2023 Quarter IV 2023 | F17: Lũy kế từ đầu năm Accumulated from beginning of year
A18: I | B18: Thu nhập từ hoạt động đầu tư Income from Investment Activities | C18: 2220 | D18: 1151749125 | E18: 1264417823 | F18: 1151749125 | P18: 2220
A19: 1 | B19: Cổ tức, trái tức được nhận Dividend, Coupon received | C19: 2221 | D19: 1088544619 | E19: 1173204012 | F19: 1088544619 | P19: 2221
B20: Cổ tức được nhận Dividend received | C20: 2221.1 | D20: 0 | E20: 0 | F20: 0
B21: Trái tức được nhận Coupon received | C21: 2221.2 | D21: 1088544619 | E21: 1173204012 | F21: 1088544619
A22: 2 | B22: Lãi được nhận Income from Interest | C22: 2222 | D22: 63204506 | E22: 91213811 | F22: 63204506 | P22: 2222
A23: 3 | B23: Các khoản thu nhập khác Other income | C23: 2223 | D23: 0 | E23: 0 | F23: 0 | P23: 2223
A24: II | B24: Chi phí Expense | C24: 2224 | D24: 348735188 | E24: 333493248 | F24: 348735188 | P24: 2224
A25: 1 | B25: Chi phí quản lý trả cho Công ty quản lý quỹ Management Fee paid to Fund Management Company | C25: 2225 | D25: 162288671 | E25: 154502698 | F25: 162288671 | P25: 2225
A26: 2 | B26: Chi phí lưu ký, giám sát trả cho Ngân hàng Giám sát/VSD Custody fee, Supervising fee paid to Supervising Bank/VSD | C26: 2226 | D26: 63987039 | E26: 63118882 | F26: 63987039 | P26: 2226
B27: Phí dịch vụ lưu ký - bảo quản tài sản Custodian service - Custody Fee | C27: 2226.1 | D27: 45000000 | E27: 45000000 | F27: 45000000 | P27: 2226.1
B28: Phí dịch vụ lưu ký - giao dịch chứng khoán Custodian service - Transaction fee | C28: 2226.2 | D28: 1800000 | E28: 800000 | F28: 1800000 | P28: 2226.2
B29: Phí dịch vụ lưu ký tại VSD Custodian fee at VSD | C29: 2226.3 | D29: 687039 | E29: 818882 | F29: 687039 | P29: 2226.3
B30: Phí giám sát Supervisory fee | C30: 2226.4 | D30: 16500000 | E30: 16500000 | F30: 16500000 | P30: 2226.4
A31: 3 | B31: Chi phí dịch vụ quản trị quỹ, chi phí dịch vụ đại lý chuyển nhượng và các chi phí khác mà công ty quản lý quỹ trả cho tổ chức cung cấp dịch vụ có liên quan Fund Administration Fee, Transfer Agency Fee, and other fee paid to relevant Fund's service providers | C31: 2227 | D31: 82500000 | E31: 82500000 | F31: 82500000 | P31: 2227
B32: Chi phí dịch vụ quản trị Quỹ Fund Administration Fee | C32: 2227.1 | D32: 49500000 | E32: 49500000 | F32: 49500000 | P32: 2227.1
B33: Chi phí dịch vụ Đại lý Chuyển nhượng Transfer Agency Fee | C33: 2227.2 | D33: 33000000 | E33: 33000000 | F33: 33000000 | P33: 2227.2
A34: 4 | B34: Chi phí kiểm toán trả cho tổ chức kiểm toán Audit fee | C34: 2228 | D34: 13500006 | E34: 12749995 | F34: 13500006 | P34: 2228
A35: 5 | B35: Chi phí dịch vụ tư vấn pháp lý, dịch vụ báo giá và các dịch vụ hợp lý khác, thù lao trả cho ban đại diện quỹ Legal consultancy expenses, price quotation fee, other valid expenses, remuneration payable to fund representative board | C35: 2229 | D35: 18000000 | E35: 18000000 | F35: 18000000 | P35: 2229
B36: Thù lao ban đại diện Quỹ Remuneration of Fund's Board of Representatives | C36: 2229.1 | D36: 18000000 | E36: 18000000 | F36: 18000000 | P36: 2229.1
B37: Chi phí cung cấp báo giá chứng khoán Price feed fee Expenses | C37: 2229.2 | D37: 0 | E37: 0 | F37: 0 | P37: 2229.2
A38: 6 | B38: Chi phí dự thảo, in ấn, gửi bản cáo bạch, bản cáo bạch tóm tắt, báo cáo tài chính, xác nhận giao dịch, sao kê tài khoản và các tài liệu khác cho nhà đầu tư; chi phí công bố thông tin của quỹ; chi phí tổ chức họp đại hội nhà đầu tư, ban đại diện quỹ Fee for drafting, printing, distribution of prospectus, summarised propectus, financial statements, transaction confirmations, account statements and other documents to investors; information disclosure fee; fee for organising annual general meeting, board of representatives meeting | C38: 2230 | D38: 0 | E38: 0 | F38: 0 | P38: 2230
B39: Chi phí họp Đại hội Quỹ Meeting expense | C39: 2230.1 | D39: 0 | E39: 0 | F39: 0 | P39: 2230.1
B40: Phí báo cáo thường niên Annual report expense | C40: 2230.2 | D40: 0 | E40: 0 | F40: 0 | P40: 2230.2
B41: Chi phí họp, công tác của ban đại diện Fund's Board of Representatives meeting, travelling expense | C41: 2230.3 | D41: 0 | E41: 0 | F41: 0 | P41: 2230.3
B42: Chi phí công bố thông tin của Quỹ Expenses for information disclosure of the Fund | C42: 2230.4 | D42: 0 | E42: 0 | F42: 0 | P42: 2230.4
...

Sheet BCDanhMucDauTu_06029
A1: Phụ lục XXVI. Mẫu báo cáo về hoạt động của Quỹ Appendix XXVI. Report on Fund's Operation
A2: (Ban hành kèm theo Thông tư số 98/2020/TT-BTC ngày 16 tháng 11 năm 2020 của Bộ trưởng Bộ Tài Chính về hướng dẫn hoạt động và quản lý quỹ đầu tư chứng khoán (Issued in association with Circular 98/2020/TT-BTC dated 16 November 2020 of the Minister of Finance on guiding the operation and management of the securities investment funds)
A3: BÁO CÁO HOẠT ĐỘNG ĐẦU TƯ CỦA QUỸ MỞ REPORT ON FUND'S INVESTMENT ACTIVITIES
A5: Tại 31 tháng 03 năm 2024/As at 31 March 2024
A7: Tên Quỹ: | C7: Quỹ Đầu Tư Trái Phiếu Lighthouse
A8: Fund name: | C8: Lighthouse Capital Bond Fund (LHBF)
A9: Tên Công ty quản lý quỹ: | C9: Công Ty Cổ Phần Quản Lý Quỹ Đầu Tư Lighthouse
A10: Fund Management Company: | C10: Lighthouse Capital Fund Management Joint Stock Company
A11: Tên ngân hàng giám sát: | C11: Ngân hàng TMCP Đầu tư và Phát triển Việt Nam Chi nhánh Nam Kỳ Khởi Nghĩa
A12: Supervising bank: | C12: Bank for Investment and Development of VietNam JSC - Nam Ky Khoi Nghia Branch
A13: Ngày lập báo cáo: | C13: Ngày 10 tháng 04 năm 2024
A14: Reporting Date: | C14: 45392
A15: A. | B15: BÁO CÁO CHUNG VỀ HOẠT ĐỘNG ĐẦU TƯ CỦA QUỸ/GENERAL INFORMATION ON FUND'S INVESTMENT ACTIVITIES
A16: III | B16: BÁO CÁO VỀ TÌNH HÌNH DANH MỤC ĐẦU TƯ CỦA QUỸ / INVESTMENT PORTFOLIO REPORT
A17: STT/No. | B17: Loại Category | C17: Mã chỉ tiêu Code | D17: Số Lượng Quantity | E17: Giá thị trường hoặc giá trị hợp lý tại ngày báo cáo Market price | F17: Tổng giá trị (Đồng) Value (VND) | G17: Tỷ lệ % Tổng giá trị tài sản của Quỹ % of total asset
A18: I | B18: CỔ PHIẾU NIÊM YẾT LISTED EQUITY | C18: 2246
B19: NAB | C19: 2246.1 | D19: 443320 | E19: 16650 | F19: 7381278000 | G19: 0.10739293
B20: TỔNG TOTAL | C20: 2247 | D20: 443320 | F20: 7381278000 | G20: 0.10739293
A21: II | B21: CỔ PHIẾU CHƯA NIÊM YẾT UNLISTED EQUITY | C21: 2248
B22: TỔNG TOTAL | C22: 2249 | D22: 0 | F22: 0 | G22: 0
B23: TỔNG CÁC LOẠI CỔ PHIẾU TOTAL | C23: 2250 | D23: 443320 | F23: 7381278000 | G23: 0.10739293
A24: III | B24: TRÁI PHIẾU BONDS | C24: 2251
A25: 1 | B25: Trái phiếu niêm yết Listed bond | C25: 2251.1
B26: CII120018 | C26: 2251.1.1 | D26: 100000 | E26: 100619 | F26: 10061900000 | G26: 0.14639429
B27: GEG121022 | C27: 2251.1.2 | D27: 1369 | E27: 102405 | F27: 140192445 | G27: 0.0020397115
B28: MSN123008 | C28: 2251.1.3 | D28: 100000 | E28: 100104 | F28: 10010400000 | G28: 0.145645
B29: VBA122001 | C29: 2251.1.4 | D29: 130878 | E29: 96604 | F29: 12643338312 | G29: 0.18395258
B30: VHM121024 | C30: 2251.1.5 | D30: 127000 | E30: 95562 | F30: 12136374000 | G30: 0.17657657
A31: 2 | B31: Trái phiếu chưa niêm yết Unlisted bond | C31: 2251.2
B32: SBTH2427001 | C32: 2251.2.1 | D32: 60 | E32: 100000000 | F32: 6000000000 | G32: 0.087296209
B33: TỔNG TOTAL | C33: 2252 | D33: 459307 | F33: 50992204757 | G33: 0.74190436
A34: IV | B34: CÁC LOẠI CHỨNG KHOÁN KHÁC OTHER SECURITIES | C34: 2253
A35: 1 | B35: Quyền mua Rights | C35: 2253.1
B36: TỔNG TOTAL | C36: 2254
B37: TỔNG CÁC LOẠI CHỨNG KHOÁN SECURITIES INVESTMENT TOTAL | C37: 2255 | D37: 902627 | F37: 58373482757 | G37: 0.8492973
A38: V | B38: CÁC TÀI SẢN KHÁC OTHER ASSETS | C38: 2256
A39: 1 | B39: Cổ tức được nhận Dividend receivables | C39: 2256.1 | F39: 0 | G39: 0
A40: 2 | B40: Lãi trái phiếu được nhận Coupon receivables | C40: 2256.2 | F40: 653766464 | G40: 0.009511889
A41: 3 | B41: Lãi tiền gửi được nhận Interest receivables from deposits | C41: 2256.3 | F41: 2104110 | G41: 3.0613471e-05
A42: 4 | B42: Phải thu lãi chứng chỉ tiền gửi ghi danh Interest receivable from registered Deposit Certificate | C42: 2256.4 | F42: 0 | G42: 0 | I42: Tach lai CD va TD
...

Sheet BCHoatDongVay_06026
A1: Phụ lục XXVI. Mẫu báo cáo về hoạt động của Quỹ Appendix XXVI. Report on Fund's Operation
A2: (Ban hành kèm theo Thông tư số 98/2020/TT-BTC ngày 16 tháng 11 năm 2020 của Bộ trưởng Bộ Tài Chính về hướng dẫn hoạt động và quản lý quỹ đầu tư chứng khoán (Issued in association with Circular 98/2020/TT-BTC dated 16 November 2020 of the Minister of Finance on guiding the operation and management of the securities investment funds)
A3: BÁO CÁO HOẠT ĐỘNG ĐẦU TƯ CỦA QUỸ MỞ REPORT ON FUND'S INVESTMENT ACTIVITIES
A4: Quý I năm 2024/ Quarter I 2024
A6: Tên Quỹ: | G6: Quỹ Đầu Tư Trái Phiếu Lighthouse
A7: Fund name: | G7: Lighthouse Capital Bond Fund (LHBF)
A8: Tên Công ty quản lý quỹ: | G8: Công Ty Cổ Phần Quản Lý Quỹ Đầu Tư Lighthouse
A9: Fund Management Company: | G9: Lighthouse Capital Fund Management Joint Stock Company
A10: Tên ngân hàng giám sát: | G10: Ngân hàng TMCP Đầu tư và Phát triển Việt Nam Chi nhánh Nam Kỳ Khởi Nghĩa
A11: Supervising bank: | G11: Bank for Investment and Development of VietNam JSC - Nam Ky Khoi Nghia Branch
A12: Ngày lập báo cáo: | G12: Ngày 10 tháng 04 năm 2024
A13: Reporting Date: | G13: 45392
A14: A. | B14: BÁO CÁO CHUNG VỀ HOẠT ĐỘNG ĐẦU TƯ CỦA QUỸ/GENERAL INFORMATION ON FUND'S INVESTMENT ACTIVITIES
A15: IV | B15: BÁO CÁO HOẠT ĐỘNG VAY, GIAO DỊCH MUA BÁN LẠI / REPORT ON BORROWING OPERATION, REPO/REVERSE REPO TRANSACTIONS
A16: STT No. | B16: Nội dung hoạt động (nêu chi tiết theo mục tiêu và đối tác) Description | C16: Mã chỉ tiêu Code | D16: Đối tác Counterparty | E16: Mục tiêu/Tài sản đảm bảo Collateral | F16: Kỳ hạn Term | G16: Giá trị khoản vay hoặc khoản cho vay Amount | H16: Thời điểm giao dịch As at transaction date | J16: Thời điểm báo cáo As at reporting date
H17: Ngày tháng năm Date | I17: Tỷ lệ giá trị hợp đồng/giá trị tài sản ròng của quỹ Balance/NAV | J17: Ngày tháng năm Date | K17: Tỷ lệ giá trị hợp đồng/giá trị tài sản ròng của quỹ Balance/NAV
A18: 1 | B18: Các khoản vay tiền (nêu chi tiết từng hợp đồng) Borrowings (detail by each contract) | C18: 2287
A19: I | B19: Tổng giá trị các khoản vay tiền/giá trị tài sản ròng Borrowings/NAV | C19: 2288
A20: 2 | B20: Hợp đồng Repo (nêu chi tiết từng hợp đồng) Repo contract (detail by each contract) | C20: 2289
A21: II | B21: Tổng giá trị các hợp đồng Repo/giá trị tài sản ròng Total value of Repo contracts/NAV | C21: 2290
A22: A | B22: Tổng giá trị các khoản vay/giá trị tài sản ròng (=I+II) Total Borrowings, Repo/NAV (=I+II) | C22: 2291
A23: 3 | B23: Cho vay chứng khoán (nêu chi tiết từng hợp đồng) Securities lending (detail by each contract) | C23: 2292
A24: III | B24: Tổng giá trị các hợp đồng/giá trị tài sản ròng Total contract value/NAV | C24: 2293
A25: 4 | B25: Hợp đồng Reverse Repo (nêu chi tiết từng hợp đồng) Reverse Repo contract (Detail by each contract) | C25: 2295
A26: IV | B26: Tổng giá trị các hợp đồng/giá trị tài sản ròng Total contract value/NAV | C26: 2296
A27: B | B27: Tổng giá trị các khoản cho vay/giá trị tài sản ròng (=III + IV) Total Loans/NAV (=III + IV) | C27: 2297
A30: * Ghi chú: kỳ báo cáo không phát sinh
A32: Đại diện có thẩm quyền của Ngân hàng giám sát | I32: Đại diện có thẩm quyền của Công ty quản lý Quỹ
A33: Authorised Representative of Supervisory Bank | I33: Authorised Representative of Fund Management Company
A44: Ngân hàng TMCP Đầu tư và Phát triển Việt Nam Chi nhánh Nam Kỳ Khởi Nghĩa | I44: Công Ty Cổ Phần Quản Lý Quỹ Đầu Tư Lighthouse
A45: ='Tong quat'!C20 -> Lê Đoàn Nhật Quang | I45: Nguyễn Lê Đình Quang
A46: Phó giám đốc chi nhánh | I46: Tổng Giám Đốc

Sheet Khac_06030
A1: Phụ lục XXVI. Mẫu báo cáo về hoạt động của Quỹ Appendix XXVI. Report on Fund's Operation
A2: (Ban hành kèm theo Thông tư số 98/2020/TT-BTC ngày 16 tháng 11 năm 2020 của Bộ trưởng Bộ Tài Chính về hướng dẫn hoạt động và quản lý quỹ đầu tư chứng khoán (Issued in association with Circular 98/2020/TT-BTC dated 16 November 2020 of the Minister of Finance on guiding the operation and management of the securities investment funds)
A3: BÁO CÁO HOẠT ĐỘNG ĐẦU TƯ CỦA QUỸ MỞ REPORT ON FUND'S INVESTMENT ACTIVITIES
A5: Quý I năm 2024/ Quarter I 2024
A7: Tên Quỹ: | C7: Quỹ Đầu Tư Trái Phiếu Lighthouse
A8: Fund name: | C8: Lighthouse Capital Bond Fund (LHBF)
A9: Tên Công ty quản lý quỹ: | C9: Công Ty Cổ Phần Quản Lý Quỹ Đầu Tư Lighthouse
A10: Fund Management Company | C10: Lighthouse Capital Fund Management Joint Stock Company
A11: Tên ngân hàng giám sát: | C11: Ngân hàng TMCP Đầu tư và Phát triển Việt Nam Chi nhánh Nam Kỳ Khởi Nghĩa
A12: Supervising bank: | C12: Bank for Investment and Development of VietNam JSC - Nam Ky Khoi Nghia Branch
A13: Ngày lập báo cáo: | C13: Ngày 10 tháng 04 năm 2024
A14: Reporting Date: | C14: 45392
A15: A. | B15: BÁO CÁO CHUNG VỀ HOẠT ĐỘNG ĐẦU TƯ CỦA QUỸ/GENERAL INFORMATION ON FUND'S INVESTMENT ACTIVITIES
A16: V | B16: MỘT SỐ CHỈ TIÊU KHÁC / OTHER INDICATORS
A17: STT/No. | B17: Chỉ tiêu/Indicators | C17: Mã chỉ tiêu/Code | D17: Quý I năm 2024 Quarter I 2024 | E17: Quý IV năm 2023 Quarter IV 2023
A18: I | B18: CÁC CHỈ TIÊU VỀ HIỆU QUẢ HOẠT ĐỘNG INVESTMENT PERFORMANCE INDICATORS | C18: 2264
A19: 1 | B19: Tỷ lệ giá dịch vụ quản lý quỹ trả cho công ty quản lý quỹ/Giá trị tài sản ròng trung bình trong kỳ (%) Management fee paid to the fund management company/Average NAV (%) | C19: 2265 | D19: 0.0099399124 | E19: 0.010091584
A20: 2 | B20: Tỷ lệ giá dịch vụ lưu ký, giám sát trả cho Ngân hàng Giám sát/Giá trị tài sản ròng trung bình trong kỳ (%) Custody and supervising fees paid to the Supervisory Bank/Average NAV (%) | C20: 2266 | D20: 0.0039191002 | E20: 0.0041227079
A21: 3 | B21: Tỷ lệ chi phí dịch vụ quản trị quỹ, và các chi phí khác mà công ty quản lý quỹ trả cho tổ chức cung cấp dịch vụ có liên quan/Giá trị tài sản ròng của quỹ trung bình trong kỳ (%) Fund admin fee, and other fees paid to relating services providers by the fund management company/Average NAV (%) | C21: 22661 | D21: 0.0050529884 | E21: 0.0053886158
A22: 4 | B22: Chi phí kiểm toán trả cho tổ chức kiểm toán (nếu phát sinh) / Giá trị tài sản ròng trung bình trong kỳ (%) Audit fee expense over average NAV ratio (%) | C22: 2267 | D22: 0.00082685301 | E22: 0.00083278575
A23: 5 | B23: Chi phí dịch vụ tư vấn pháp lý, dịch vụ báo giá và các dịch vụ hợp lý khác, thù lao trả cho ban đại diện quỹ / Giá trị tài sản ròng trung bình trong kỳ (%) Legal consultancy, OTC price quotation and other valid service fees; Board of Representatives' remuneration expense over average NAV ratio (%) | C23: 2268 | D23: 0.0011024702 | E23: 0.001175698
A24: 6 | B24: Tỷ lệ chi phí /Giá trị tài sản ròng trung bình trong kỳ (%) Expense/Average NAV (%) | C24: 2269 | D24: 0.021359453 | E24: 0.02178263
A25: 7 | B25: Tốc độ vòng quay danh mục trong kỳ (%) = (Tổng giá trị mua vào + tổng giá trị bán ra) x 100%/ (2 x Giá trị tài sản ròng trung bình trong kỳ) Portfolio turnover rate (%) = (Total value of purchase transactions + total value of sales transactions) x 100%/ (2 x Average NAV) (**) | C25: 2270 | D25: 1.0707826 | E25: 0.076643874
A26: II | B26: CÁC CHỈ TIÊU KHÁC OTHER INDICATORS | C26: 2272
A27: 1 | B27: Quy mô quỹ đầu kỳ (tính theo mệnh giá chứng chỉ quỹ) Fund scale at the beginning of the period (based on par value of fund certificate) | C27: 2273 | D27: 5.0744246e+10 | E27: 5.0311462e+10
B28: Tổng giá trị chứng chỉ quỹ đang lưu hành đầu kỳ Total value of outstanding Fund Certificate at the beginning of period | C28: 2274 | D28: 5.0744246e+10 | E28: 5.0311462e+10
B29: Tổng số lượng đơn vị quỹ đang lưu hành đầu kỳ Total number of outstanding Fund Certificate at the beginning of period | C29: 2275 | D29: 5074424.6 | E29: 5031146.2
A30: 2 | B30: Thay đổi quy mô quỹ trong kỳ (tính theo mệnh giá chứng chỉ quỹ) Change of Fund scale during the period (based on par value of fund certificate) | C30: 2276 | D30: 3283094000 | E30: 4.327842e+08
B31: Thay đổi số lượng chứng chỉ quỹ trong kỳ Change of Number of Fund Certificates during the period | C31: 2276.1 | D31: 328309.4 | E31: 43278.42
B32: Thay đổi giá trị vốn trong kỳ (theo mệnh giá) Change in capital amount during the period (based on par value) | C32: 2276.2 | D32: 3283094000 | E32: 4.327842e+08
B33: Số lượng đơn vị quỹ phát hành thêm trong kỳ Number of Fund Certificates subscribed during the period | C33: 2277 | D33: 373101.58 | E33: 98367.29
B34: Giá trị vốn huy động thêm trong kỳ (theo mệnh giá) Net subscription amount in period (based on par value) | C34: 2278 | D34: 3731015800 | E34: 9.836729e+08
B35: Số lượng đơn vị quỹ mua lại trong kỳ Number of Fund Certificates redeemed during the period | C35: 22781 | D35: -44792.18 | E35: -55088.87
B36: Giá trị vốn phải thanh toán trong kỳ khi đáp ứng lệnh của nhà đầu tư (theo mệnh giá) Net redemption amount in period (based on par value) | C36: 22782 | D36: -447921800 | E36: -550888700
A37: 3 | B37: Quy mô quỹ cuối kỳ (tính theo mệnh giá chứng chỉ quỹ) Fund scale at the end of the period (based on par value of fund unit) | C37: 2279 | D37: 54027340500 | E37: 5.0744246e+10
B38: Tổng giá trị chứng chỉ quỹ đang lưu hành cuối kỳ Total value of outstanding Fund Certificate at the end of the period | C38: 2280 | D38: 54027340500 | E38: 5.0744246e+10
B39: Tổng số lượng đơn vị quỹ đang lưu hành cuối kỳ Total number of outstanding Fund Certificate at the end of the period | C39: 2281 | D39: 5402734 | E39: 5074424.6
A40: 4 | B40: Tỷ lệ nắm giữ chứng chỉ quỹ của công ty quản lý quỹ và người có liên quan cuối kỳ Fund Management Company and related parties' ownership ratio at the end of the period | C40: 2282 | D40: 0 | E40: 0
A41: 5 | B41: Tỷ lệ nắm giữ chứng chỉ quỹ của 10 nhà đầu tư lớn nhất cuối kỳ Top 10 investors' ownership ratio at the end of the period | C41: 2283 | D41: 0.9225 | E41: 0.9723
A42: 6 | B42: Tỷ lệ nắm giữ chứng chỉ quỹ của nhà đầu tư nước ngoài cuối kỳ Foreign investors' ownership ratio at the end of the period | C42: 2284 | D42: 0 | E42: 0
...

Sheet BCLCGT_06262
A1: Mẫu số B02g - QM. Báo cáo tình hình tài chính Template B02g - QM. Statement of Financial Position
A2: (Ban hành kèm theo Thông tư 198/2012/TT-BTC ngày 15 tháng 11 năm 2012 về chế độ kế toán áp dụng đối với quỹ mở) (Issued in association with Circular 198/2012/TT-BTC dated 15 Nov 2012 on the Accounting Policies for Open-Ended Fund)
A3: BÁO CÁO LƯU CHUYỂN TIỀN TỆ CASH FLOW STATEMENT
A4: Quý I năm 2024/ Quarter I 2024
A7: Tên Quỹ: | B7: Quỹ Đầu Tư Trái Phiếu Lighthouse
A8: Fund name: | B8: Lighthouse Capital Bond Fund (LHBF)
A9: Tên Công ty quản lý quỹ: | B9: Công Ty Cổ Phần Quản Lý Quỹ Đầu Tư Lighthouse
A10: Fund Management Company: | B10: Lighthouse Capital Fund Management Joint Stock Company
A11: Tên ngân hàng giám sát: | B11: NH TMCP Đầu tư và Phát triển Việt Nam Chi nhánh Nam Kỳ Khởi Nghĩa
A12: Supervising bank: | B12: Bank for Investment and Development of VietNam JSC - Nam Ky Khoi Nghia Branch
A13: Ngày lập báo cáo: | B13: Ngày 10 tháng 04 năm 2024
A14: Reporting Date: | B14: 45392
A17: Chỉ tiêu Indicator | B17: Mã số Code | C17: Thuyết minh Note | D17: Quý I năm 2024 Quarter I 2024 | E17: Quý IV năm 2023 Quarter IV 2023
A18: I. Lưu chuyển tiền từ hoạt động đầu tư Cash flow from investing activities | B18: I
A19: 1. Lợi nhuận trước Thuế thu nhập doanh nghiệp Profit before income tax | B19: 01 | D19: 1626699149 | E19: 1623751928
A20: 2. Điều chỉnh cho các khoản tăng giá trị tài sản ròng từ các hoạt động đầu tư Adjustment for NAV increase from investing activities | B20: 02 | D20: 167414256 | E20: 433517842
A21: (- Lãi) hoặc (+ lỗ) chênh lệch tỷ giá hối đoái/ đánh giá lại các khoản đầu tư chưa thực hiện Unreliased (Gain) or Loss from FX valuation/Investment revaluation | B21: 03 | D21: 151444377 | E21: 428230839
A22: (+) Chi phí trích trước Increase of Accrued Expenses | B22: 04 | D22: 15969879 | E22: 5287003
A23: 3. Lợi nhuận từ hoạt động đầu tư trước thay đổi vốn lưu động Profit from investing activities before changes in working capital | B23: 05 | D23: 1794113405 | E23: 2057269770
A24: (-) Tăng, (+) giảm đầu tư (Increase), Decrease Investments | B24: 20 | D24: -6999350034 | E24: 6916098061
A25: (-) Tăng, (+) giảm phải thu bán chứng khoán đầu tư (Increase), Decrease in Receivables from investments sold but not yet settled | B25: 06 | D25: 0 | E25: 0
A26: (-) Tăng, (+) giảm dự thu phải thu tiền lãi các khoản đầu tư (Increase), Decrease in Dividend and interest receivables | B26: 07 | D26: 207711887 | E26: -85293147
A27: (-) Tăng, (+) giảm các khoản phải thu khác (Increase), Decrease in other receivables | B27: 08 | D27: 0 | E27: 0
A28: (+) Tăng, (-) giảm vay ngắn hạn Increase, (Decrease) in Short-term Loans | B28: 09 | D28: 0 | E28: 0
A29: (+) Tăng, (-) giảm phải trả cho người bán (Decrease), Increase in payables for securities purchased but not yet settled | B29: 10 | D29: -109780000 | E29: 109780000
A30: (+) Tăng, (-) giảm phải trả các Đại lý phân phối Chứng chỉ quỹ, Công ty Quản lý Quỹ (Decrease)/increase in subscription and redemption fee payable to distributors and Fund Management Company | B30: 11 | D30: 1741501 | E30: 3026189
... A38: Lưu chuyển tiền thuần từ hoạt động đầu tư (1+2+3) Net Cash flow from Investing activities | B38: 19 | D38: -5110699040 | E38: 9138201622
A39: II. Lưu chuyển tiền từ hoạt động tài chính Cash flow from financing activities | B39: II
A40: 1. Tiền thu từ phát hành Chứng chỉ quỹ mở Receipts from subscriptions | B40: 31 | D40: 4680616282 | E40: 1192247210
A41: 2. Tiền chi mua lại Chứng chỉ quỹ mở Payments for redemptions | B41: 32 | D41: -561626477 | E41: -666029184
A42: 3. Tiền vay gốc Principal of borrowings | B42: 33 | D42: 0 | E42: 0
A43: 4. Tiền chi trả nợ gốc vay Payment of Principal borrowings | B43: 34 | D43: 0 | E43: 0
A44: 5. Tiền chi trả cổ tức, tiền lãi cho nhà đầu tư Dividend, profit distribution paid to investors | B44: 35 | D44: 0 | E44: 0
A45: Lưu chuyển tiền thuần từ hoạt động tài chính (1+2+3-4-5) Net cash outflows from financing activities | B45: 30 | D45: 4118989805 | E45: 526218026
A46: III. Tăng/giảm tiền thuần trong kỳ Net Increase/Decrease in cash and cash equivalent for the period | B46: 40 | D46: -991709235 | E46: 9664419648
A47: IV. Tiền và các khoản tương đương tiền đầu kỳ Cash and cash equivalents at the beginning of period | B47: 50 | D47: 0 | E47: 0
A48: Tiền gửi ngân hàng đầu kỳ: Cash at bank of the beginning of period: | B48: 51 | D48: 10693862518 | E48: 1029442870
A49: -Tiền gửi ngân hàng và tương đương tiền cho hoạt động của Quỹ Cash at bank and cash equivalent for Fund's operation | B49: 52 | D49: 10559952187 | E49: 1011092870
A50: Tiền gửi không kỳ hạn Demand deposit | B50: 52.1 | D50: 2559952187 | E50: 211092870
A51: Tiền gửi có kỳ hạn dưới ba (03) tháng Deposits with term under three (03) months | B51: 52.2 | D51: 8000000000 | E51: 800000000
...

Sheet TB 30092015
E2: GENERAL LEDGER TRIAL BALANCE
E3: Fund | F3: VCAMBF | G3: VIET CAPITAL BALANCED FU Page : | H3: 1/2
A4: General Ledger Trail Balance To | E4: 31/10/2015 00:00 Currency VND | G4: DONG Report | H4: : SHJNA102
G5: 03/11/2015 10:57
E6: Nav Type Official | G6: Historical
A7: Account | B7: IFRS Suff Acc | D7: Maturity | E7: Description | G7: - - - - - - - - - - - - - Balance - - - | H7: - - - - - - - - - -
B8: Class | C8: Ccy | D8: Date | G8: Account Ccy | H8: Fund CcyVND
A9: 101100 | C9: VND | E9: Investment - Equities | F9: VND | G9: 27189959504 | H9: 27189959504
A10: 110100 | C10: VND | D10: 09/11/2015 | E10: Bank Deposits | F10: VND | G10: 5000000000 | H10: 5000000000
A11: 110100 | C11: VND | D11: 12/11/2015 | E11: Bank Deposits | F11: VND | G11: 7000000000 | H11: 7000000000
A12: 110100 | C12: VND | D12: 16/11/2015 | E12: Bank Deposits | F12: VND | G12: 4000000000 | H12: 4000000000
A13: 110100 | C13: VND | D13: 30/12/2015 | E13: Bank Deposits | F13: VND | G13: 13000000000 | H13: 13000000000
A14: 132100 | B14: 7 | C14: VND | E14: Dividend Receivable | F14: VND | G14: 112800000 | H14: 112800000
A15: 132150 | B15: 7 | C15: VND | E15: Due From Broker - Equities | F15: VND | G15: 3088160800 | H15: 3088160800
A16: 140130 | B16: 7 | C16: VND | E16: Cash in Bank STANDARD | F16: VND | G16: 6452337403 | H16: 6452337403
E17: CHARTERED BANK VIETNAM
A18: 152190 | B18: - | C18: VND | E18: Int Accrual - Deposit | F18: VND | G18: 103038889 | H18: 103038889
A19: 161100 | B19: - | C19: VND | E19: Prov Unr P/L - Equities | F19: VND | G19: -1452309804 | H19: -1452309804
A20: 161120 | B20: - | C20: VND | E20: Prov Unr P/L - Rights | F20: VND | G20: 349680000 | H20: 349680000
A21: 212150 | B21: 7 | C21: VND | E21: Due to Broker - Equity | F21: VND | G21: -1492792250 | H21: -1492792250
A22: 212222 | B22: - | C22: VND | E22: Payable WHT Tax | F22: VND | G22: -6000000 | H22: -6000000
A23: 213103 | B23: - | C23: VND | E23: Exp Accrual - Admin Fee | F23: VND | G23: -11180000 | H23: -11180000
A24: 213105 | B24: - | C24: VND | E24: Exp Accrual - Audit Fee | F24: VND | G24: -91616438 | H24: -91616438
A25: 213107 | B25: - | C25: VND | E25: Exp Accrual - Custody Fee | F25: VND | G25: -10750000 | H25: -10750000
A26: 213108 | B26: - | C26: VND | E26: Exp Accrual - Directors Fee | F26: VND | G26: -5400000 | H26: -5400000
A27: 213110 | B27: - | C27: VND | E27: Exp Accrual - Fund Svces Fee | F27: VND | G27: -19565000 | H27: -19565000
A28: 213128 | B28: - | C28: VND | E28: Exp Accrual - Transaction Fee | F28: VND | G28: -9600000 | H28: -9600000
A29: 213129 | B29: - | C29: VND | E29: Exp Accrual - Transfer Agt Fee | F29: VND | G29: -11000000 | H29: -11000000
A30: 213154 | B30: - | C30: VND | E30: Exp Accrual - Other Expense | F30: VND | G30: -8328773 | H30: -8328773
A31: 213500 | B31: - | C31: VND | E31: Exp Accrual - Management | F31: VND | G31: -47698050 | H31: -47698050
E32: Fee
A33: 301000 | B33: - | C33: VND | E33: Capital - Subscription | F33: VND | G33: -60597958652 | H33: -60597958652
A34: 302000 | B34: - | C34: VND | E34: Capital - Redemption | F34: VND | G34: 1056863400 | H34: 1056863400
A35: 303102 | B35: - | C35: VND | E35: Unit Premium Reserve | F35: VND | G35: -191086976 | H35: -191086976
A36: 390000 | B36: - | C36: VND | E36: RETAIN EARNINGS | F36: VND | G36: 567698805 | H36: 567698805
A37: 411100 | B37: - | C37: VND | E37: R/L G/P - Equities | F37: VND | G37: -7655111543 | H37: -7655111543
A38: 431100 | B38: - | C38: VND | E38: UR/L G/P - Equities | F38: VND | G38: -1.9763784e+09 | H38: -1.9763784e+09
A39: 431120 | B39: - | C39: VND | E39: UR/L G/P - Rights | F39: VND | G39: -349680000 | H39: -349680000
A40: 441100 | B40: - | C40: VND | E40: UR/L G/FX - Equities | F40: VND | G40: -0.14 | H40: -0.14
A41: 451100 | B41: - | C41: VND | E41: Dividend Income - Equities | F41: VND | G41: -1971571000 | H41: -1971571000
...

Sheet THU NHAP
A1: Chỉ tiêu | B1: Mã số | C1: Thuyết minh | D1: Năm N | F1: Năm N-1
D2: Kỳ này | E2: Kỳ trước | F2: Kỳ này | G2: Kỳ trước
A3: I. THU NHẬP, DOANH THU HOẠT ĐỘNG ĐẦU TƯ | B3: 01 | D3: =BCThuNhap_06203!D18 -> 1975434337 | E3: =BCThuNhap_06203!E18 -> 1975434337 | F3: =BCThuNhap_06203!F18 -> 2564227468 | G3: =BCThuNhap_06203!G18 -> 2564227468
A4: 1.1. Cổ tức được chia | B4: 02 | D4: =BCThuNhap_06203!D19 -> 1088544619 | E4: =BCThuNhap_06203!E19 -> 1088544619 | F4: =BCThuNhap_06203!F19 -> 848671198 | G4: =BCThuNhap_06203!G19 -> 848671198
A5: 1.2. Tiền lãi được nhận | B5: 03 | D5: =BCThuNhap_06203!D22 -> 63204506 | E5: =BCThuNhap_06203!E22 -> 63204506 | F5: =BCThuNhap_06203!F22 -> 13052133 | G5: =BCThuNhap_06203!G22 -> 13052133
A6: 1.3. Lãi, lỗ bán các khoản đầu tư | B6: 04 | D6: =+VLOOKUP(B6,BCThuNhap_06203!$B$18:$D$73,3,0) -> 975129589 | E6: =+VLOOKUP(B6,BCThuNhap_06203!$B$18:$E$73,4,0) -> 975129589 | F6: =+VLOOKUP(B6,BCThuNhap_06203!$B$18:$F$73,5,0) -> 134310000 | G6: =+VLOOKUP(B6,BCThuNhap_06203!$B$18:$G$73,6,0) -> 134310000
A7: 1.4. Chênh lệch tăng, giảm đánh giá lại các khoản đầu tư chưa thực hiện | B7: 05 | D7: =+VLOOKUP(B7,BCThuNhap_06203!$B$18:$D$73,3,0) -> -151444377 | E7: =+VLOOKUP(B7,BCThuNhap_06203!$B$18:$E$73,4,0) -> -151444377 | F7: =+VLOOKUP(B7,BCThuNhap_06203!$B$18:$F$73,5,0) -> 1568194137 | G7: =+VLOOKUP(B7,BCThuNhap_06203!$B$18:$G$73,6,0) -> 1568194137
A8: 1.5. Doanh thu khác | B8: 06 | D8: =+VLOOKUP(B8,BCThuNhap_06203!$B$18:$D$73,3,0) -> 0 | E8: =+VLOOKUP(B8,BCThuNhap_06203!$B$18:$E$73,4,0) -> 0 | F8: =+VLOOKUP(B8,BCThuNhap_06203!$B$18:$F$73,5,0) -> 0 | G8: =+VLOOKUP(B8,BCThuNhap_06203!$B$18:$G$73,6,0) -> 0
A9: 1.6. Chênh lệch lãi, lỗ tỷ giá hối đoái đã và chưa thực hiện | B9: 07 | D9: =+VLOOKUP(B9,BCThuNhap_06203!$B$18:$D$73,3,0) -> 0 | E9: =+VLOOKUP(B9,BCThuNhap_06203!$B$18:$E$73,4,0) -> 0 | F9: =+VLOOKUP(B9,BCThuNhap_06203!$B$18:$F$73,5,0) -> 0 | G9: =+VLOOKUP(B9,BCThuNhap_06203!$B$18:$G$73,6,0) -> 0
A10: 1.7. Doanh thu khác về đầu tư | B10: 08 | D10: =+VLOOKUP(B10,BCThuNhap_06203!$B$18:$D$73,3,0) -> 0 | E10: =+VLOOKUP(B10,BCThuNhap_06203!$B$18:$E$73,4,0) -> 0 | F10: =+VLOOKUP(B10,BCThuNhap_06203!$B$18:$F$73,5,0) -> 0 | G10: =+VLOOKUP(B10,BCThuNhap_06203!$B$18:$G$73,6,0) -> 0
A11: 1.8. Dự phòng nợ phải thu và dự thu khó đòi về cổ tức, tiền lãi và xử lý tổn thất nợ phải thu khó đòi về cổ tức, tiền lãi | B11: 09 | D11: =+VLOOKUP(B11,BCThuNhap_06203!$B$18:$D$73,3,0) -> 0 | E11: =+VLOOKUP(B11,BCThuNhap_06203!$B$18:$E$73,4,0) -> 0 | F11: =+VLOOKUP(B11,BCThuNhap_06203!$B$18:$F$73,5,0) -> 0 | G11: =+VLOOKUP(B11,BCThuNhap_06203!$B$18:$G$73,6,0) -> 0
A12: II. CHI PHÍ ĐẦU TƯ | B12: 10 | D12: =+VLOOKUP(B12,BCThuNhap_06203!$B$18:$D$73,3,0) -> 5973132 | E12: =+VLOOKUP(B12,BCThuNhap_06203!$B$18:$E$73,4,0) -> 5973132 | F12: =+VLOOKUP(B12,BCThuNhap_06203!$B$18:$F$73,5,0) -> 37235923 | G12: =+VLOOKUP(B12,BCThuNhap_06203!$B$18:$G$73,6,0) -> 37235923
A13: 2.1. Chi phí giao dịch mua, bán các khoản đầu tư | B13: 11 | D13: =+VLOOKUP(B13,BCThuNhap_06203!$B$18:$D$73,3,0) -> 5973132 | E13: =+VLOOKUP(B13,BCThuNhap_06203!$B$18:$E$73,4,0) -> 5973132 | F13: =+VLOOKUP(B13,BCThuNhap_06203!$B$18:$F$73,5,0) -> 37235923 | G13: =+VLOOKUP(B13,BCThuNhap_06203!$B$18:$G$73,6,0) -> 37235923
A14: 2.2.Chi phí dự phòng nợ phải thu khó đòi và xử lý tổn thất phải thu khó đòi | B14: 12 | D14: =+VLOOKUP(B14,BCThuNhap_06203!$B$18:$D$73,3,0) -> 0 | E14: =+VLOOKUP(B14,BCThuNhap_06203!$B$18:$E$73,4,0) -> 0 | F14: =+VLOOKUP(B14,BCThuNhap_06203!$B$18:$F$73,5,0) -> 0 | G14: =+VLOOKUP(B14,BCThuNhap_06203!$B$18:$G$73,6,0) -> 0
A15: 2.3. Chi phí lãi vay | B15: 13 | D15: =+VLOOKUP(B15,BCThuNhap_06203!$B$18:$D$73,3,0) -> 0 | E15: =+VLOOKUP(B15,BCThuNhap_06203!$B$18:$E$73,4,0) -> 0 | F15: =+VLOOKUP(B15,BCThuNhap_06203!$B$18:$F$73,5,0) -> 0 | G15: =+VLOOKUP(B15,BCThuNhap_06203!$B$18:$G$73,6,0) -> 0
A16: 2.4. Chi phí dự phòng giảm giá tài sản nhận thế chấp và xử lý tổn thất các khoản đầu tư cho vay có tài sản nhận thế chấp | B16: 14 | D16: =+VLOOKUP(B16,BCThuNhap_06203!$B$18:$D$73,3,0) -> 0 | E16: =+VLOOKUP(B16,BCThuNhap_06203!$B$18:$E$73,4,0) -> 0 | F16: =+VLOOKUP(B16,BCThuNhap_06203!$B$18:$F$73,5,0) -> 0 | G16: =+VLOOKUP(B16,BCThuNhap_06203!$B$18:$G$73,6,0) -> 0
A17: 2.5.Chi phí đầu tư khác | B17: 15 | D17: =+VLOOKUP(B17,BCThuNhap_06203!$B$18:$D$73,3,0) -> 0 | E17: =+VLOOKUP(B17,BCThuNhap_06203!$B$18:$E$73,4,0) -> 0 | F17: =+VLOOKUP(B17,BCThuNhap_06203!$B$18:$F$73,5,0) -> 0 | G17: =+VLOOKUP(B17,BCThuNhap_06203!$B$18:$G$73,6,0) -> 0
... A37: VIII. LỢI NHUẬN KẾ TOÁN SAU THUẾ TNDN (41 = 30 - 40) | B37: 41 | D37: =+VLOOKUP(B37,BCThuNhap_06203!$B$18:$D$73,3,0) -> 1626699149 | E37: =+VLOOKUP(B37,BCThuNhap_06203!$B$18:$E$73,4,0) -> 1626699149 | F37: =+VLOOKUP(B37,BCThuNhap_06203!$B$18:$F$73,5,0) -> 2196178432 | G37: =+VLOOKUP(B37,BCThuNhap_06203!$B$18:$G$73,6,0) -> 2196178432

Sheet LCTT
A1: Chỉ tiêu | B1: Mã số | C1: Thuyết minh | D1: Năm N | E1: Năm N-1
A2: I. Lưu chuyển tiền từ hoạt động đầu tư | B2: I
A3: 1. Lợi nhuận trước Thuế thu nhập doanh nghiệp | B3: 01 | D3: =+VLOOKUP(B3,BCLCGT_06262!$B$19:$D$64,3,0) -> 1626699149 | E3: =+VLOOKUP(B3,BCLCGT_06262!$B$19:$E$64,4,0) -> 1623751928
A4: 2. Điều chỉnh cho các khoản tăng giá trị tài sản ròng từ các hoạt động đầu tư | B4: 02 | D4: =+VLOOKUP(B4,BCLCGT_06262!$B$19:$D$64,3,0) -> 167414256 | E4: =+VLOOKUP(B4,BCLCGT_06262!$B$19:$E$64,4,0) -> 433517842
A5: (- lãi) hoặc (+ lỗ) chênh lệch tỷ giá hối đoái chưa thực hiện | B5: 03 | D5: =+VLOOKUP(B5,BCLCGT_06262!$B$19:$D$64,3,0) -> 151444377 | E5: =+VLOOKUP(B5,BCLCGT_06262!$B$19:$E$64,4,0) -> 428230839
A6: (+) chi phí trích trước | B6: 04 | D6: =+VLOOKUP(B6,BCLCGT_06262!$B$19:$D$64,3,0) -> 15969879 | E6: =+VLOOKUP(B6,BCLCGT_06262!$B$19:$E$64,4,0) -> 5287003
A7: 3. Lợi nhuận từ hoạt động đầu tư trước thay đổi vốn lưu động | B7: 05 | D7: =+VLOOKUP(B7,BCLCGT_06262!$B$19:$D$64,3,0) -> 1794113405 | E7: =+VLOOKUP(B7,BCLCGT_06262!$B$19:$E$64,4,0) -> 2057269770
A8: (-) Tăng, (+) giảm các khoản đầu tư | B8: 20 | D8: =+VLOOKUP(B8,BCLCGT_06262!$B$19:$D$64,3,0) -> -6999350034 | E8: =+VLOOKUP(B8,BCLCGT_06262!$B$19:$E$64,4,0) -> 6916098061
A9: (-) Tăng, (+) giảm phải thu bán chứng khoán đầu tư | B9: 06 | D9: =+VLOOKUP(B9,BCLCGT_06262!$B$19:$D$64,3,0) -> 0 | E9: =+VLOOKUP(B9,BCLCGT_06262!$B$19:$E$64,4,0) -> 0
A10: (-) Tăng, (+) giảm dự thu phải thu tiền lãi các khoản đầu tư | B10: 07 | D10: =+VLOOKUP(B10,BCLCGT_06262!$B$19:$D$64,3,0) -> 207711887 | E10: =+VLOOKUP(B10,BCLCGT_06262!$B$19:$E$64,4,0) -> -85293147
A11: (-) Tăng, (+) giảm các khoản phải thu khác | B11: 08 | D11: =+VLOOKUP(B11,BCLCGT_06262!$B$19:$D$64,3,0) -> 0 | E11: =+VLOOKUP(B11,BCLCGT_06262!$B$19:$E$64,4,0) -> 0
A12: (+) Tăng, (-) giảm vay ngắn hạn | B12: 09 | D12: =+VLOOKUP(B12,BCLCGT_06262!$B$19:$D$64,3,0) -> 0 | E12: =+VLOOKUP(B12,BCLCGT_06262!$B$19:$E$64,4,0) -> 0
A13: (+) Tăng, (-) giảm phải trả cho người bán | B13: 10 | D13: =+VLOOKUP(B13,BCLCGT_06262!$B$19:$D$64,3,0) -> -109780000 | E13: =+VLOOKUP(B13,BCLCGT_06262!$B$19:$E$64,4,0) -> 109780000
A14: (+) Tăng, (-) giảm phải trả các Đại lý phân phối Chứng chỉ quỹ | B14: 11 | D14: =+VLOOKUP(B14,BCLCGT_06262!$B$19:$D$64,3,0) -> 1741501 | E14: =+VLOOKUP(B14,BCLCGT_06262!$B$19:$E$64,4,0) -> 3026189
... A22: Lưu chuyển tiền thuần từ hoạt động đầu tư (1 + 2 + 3) | B22: 19 | D22: =+VLOOKUP(B22,BCLCGT_06262!$B$19:$D$64,3,0) -> -5110699040 | E22: =+VLOOKUP(B22,BCLCGT_06262!$B$19:$E$64,4,0) -> 9138201622
A23: II. Lưu chuyển tiền từ hoạt động tài chính | B23: II | D23: =BCLCGT_06262!D45 -> 4118989805 | E23: =+VLOOKUP(B23,BCLCGT_06262!$B$19:$E$64,4,0) -> 0
A24: 1. Tiền thu từ phát hành Chứng chỉ quỹ mở | B24: 31 | D24: =BCLCGT_06262!D40 -> 4680616282 | E24: =BCLCGT_06262!E40 -> 1192247210
A25: 2. Tiền chi mua lại Chứng chỉ quỹ mở | B25: 32 | D25: =BCLCGT_06262!D41 -> -561626477 | E25: =BCLCGT_06262!E41 -> -666029184
A26: 3. Tiền vay gốc | B26: 33 | D26: =BCLCGT_06262!D42 -> 0 | E26: =BCLCGT_06262!E42 -> 0
A27: 4. Tiền chi trả nợ gốc vay | B27: 34 | D27: =+VLOOKUP(B27,BCLCGT_06262!$B$19:$D$64,3,0) -> 0 | E27: =+VLOOKUP(B27,BCLCGT_06262!$B$19:$E$64,4,0) -> 0
A28: 5. Tiền chi trả cổ tức, tiền lãi cho nhà đầu tư | B28: 35 | D28: =+VLOOKUP(B28,BCLCGT_06262!$B$19:$D$64,3,0) -> 0 | E28: =+VLOOKUP(B28,BCLCGT_06262!$B$19:$E$64,4,0) -> 0
A29: Lưu chuyển tiền thuần từ hoạt động tài chính (1-2+3-4-5) | B29: 30 | D29: =+VLOOKUP(B29,BCLCGT_06262!$B$19:$D$64,3,0) -> 4118989805 | E29: =+VLOOKUP(B29,BCLCGT_06262!$B$19:$E$64,4,0) -> 526218026
A30: III. Tăng/giảm tiền thuần trong kỳ | B30: 40 | D30: =+VLOOKUP(B30,BCLCGT_06262!$B$19:$D$64,3,0) -> -991709235 | E30: =+VLOOKUP(B30,BCLCGT_06262!$B$19:$E$64,4,0) -> 9664419648
A31: IV. Tiền và các khoản tương đương tiền đầu kỳ | B31: 50 | D31: =+VLOOKUP(B31,BCLCGT_06262!$B$19:$D$64,3,0) -> 0 | E31: =+VLOOKUP(B31,BCLCGT_06262!$B$19:$E$64,4,0) -> 0
A32: Tiền gửi ngân hàng đầu kỳ: | B32: 51 | D32: =+VLOOKUP(B32,BCLCGT_06262!$B$19:$D$64,3,0) -> 10693862518 | E32: =+VLOOKUP(B32,BCLCGT_06262!$B$19:$E$64,4,0) -> 1029442870
A33: - Tiền gửi ngân hàng cho hoạt động Quỹ mở | B33: 52 | D33: =+VLOOKUP(B33,BCLCGT_06262!$B$19:$D$64,3,0) -> 10559952187 | E33: =+VLOOKUP(B33,BCLCGT_06262!$B$19:$E$64,4,0) -> 1011092870
A34: - Tiền gửi của Nhà đầu tư về mua Chứng chỉ quỹ | B34: 53 | D34: =+VLOOKUP(B34,BCLCGT_06262!$B$19:$D$64,3,0) -> 133910331 | E34: =+VLOOKUP(B34,BCLCGT_06262!$B$19:$E$64,4,0) -> 18350000
A35: - Tiền gửi phong tỏa | B35: 54 | D35: =+VLOOKUP(B35,BCLCGT_06262!$B$19:$D$64,3,0) -> 0 | E35: =+VLOOKUP(B35,BCLCGT_06262!$B$19:$E$64,4,0) -> 0
A36: V. Tiền và các khoản tương đương tiền cuối kỳ | B36: 55 | D36: =+VLOOKUP(B36,BCLCGT_06262!$B$19:$D$64,3,0) -> 9702153283 | E36: =+VLOOKUP(B36,BCLCGT_06262!$B$19:$E$64,4,0) -> 10693862518
A37: Tiền gửi ngân hàng cuối kỳ: | B37: 56 | D37: =+VLOOKUP(B37,BCLCGT_06262!$B$19:$D$64,3,0) -> 9702153283 | E37: =+VLOOKUP(B37,BCLCGT_06262!$B$19:$E$64,4,0) -> 10693862518
A38: - Tiền gửi ngân hàng cho hoạt động Quỹ mở | B38: 57 | D38: =+VLOOKUP(B38,BCLCGT_06262!$B$19:$D$64,3,0) -> 9523513283 | E38: =+VLOOKUP(B38,BCLCGT_06262!$B$19:$E$64,4,0) -> 10559952187
... A42: Khác | B42: 80 | D42: =+VLOOKUP(B42,BCLCGT_06262!$B$19:$D$64,3,0) -> 0 | E42: =+VLOOKUP(B42,BCLCGT_06262!$B$19:$E$64,4,0) -> 0

Sheet TAI CHINH
A1: Chỉ tiêu | B1: Mã số | C1: Thuyết minh | D1: Năm N | E1: Năm N-1
A2: I. TÀI SẢN | B2: I
A3: 1.Tiền gửi ngân hàng và tương đương tiền | B3: 110 | D3: =+VLOOKUP(B3,BCTinhHinhTaiChinh_06105!$B$18:$D$87,3,0) -> 9702153283 | E3: =+VLOOKUP(B3,BCTinhHinhTaiChinh_06105!$B$18:$E$87,4,0) -> 10693862518
A4: 1.1. Tiền gửi ngân hàng cho hoạt động của Quỹ mở | B4: 111 | D4: =+VLOOKUP(B4,BCTinhHinhTaiChinh_06105!$B$18:$D$87,3,0) -> 5702153283 | E4: =+VLOOKUP(B4,BCTinhHinhTaiChinh_06105!$B$18:$E$87,4,0) -> 2693862518
A5: 1.2. Tiền gửi có kỳ hạn dưới 3 tháng | B5: 112 | D5: =+VLOOKUP(B5,BCTinhHinhTaiChinh_06105!$B$18:$D$87,3,0) -> 4000000000 | E5: =+VLOOKUP(B5,BCTinhHinhTaiChinh_06105!$B$18:$E$87,4,0) -> 8000000000
A6: 2. Các khoản đầu tư thuần | B6: 120 | D6: =+VLOOKUP(B6,BCTinhHinhTaiChinh_06105!$B$18:$D$87,3,0) -> 58373482757 | E6: =+VLOOKUP(B6,BCTinhHinhTaiChinh_06105!$B$18:$E$87,4,0) -> 51525577100
A7: 2.1. Các khoản đầu tư | B7: 121 | D7: =+VLOOKUP(B7,BCTinhHinhTaiChinh_06105!$B$18:$D$87,3,0) -> 58373482757 | E7: =+VLOOKUP(B7,BCTinhHinhTaiChinh_06105!$B$18:$E$87,4,0) -> 51525577100
A8: 2.2. Dự phòng giảm giá tài sản nhận thế chấp | B8: 122 | D8: =+VLOOKUP(B8,BCTinhHinhTaiChinh_06105!$B$18:$D$87,3,0) -> 0 | E8: =+VLOOKUP(B8,BCTinhHinhTaiChinh_06105!$B$18:$E$87,4,0) -> 0
A9: 3. Các khoản phải thu | B9: 130 | D9: =+VLOOKUP(B9,BCTinhHinhTaiChinh_06105!$B$18:$D$87,3,0) -> 655870574 | E9: =+VLOOKUP(B9,BCTinhHinhTaiChinh_06105!$B$18:$E$87,4,0) -> 863582461
A10: 3.1 Phải thu về bán các khoản đầu tư | B10: 131 | D10: =+VLOOKUP(B10,BCTinhHinhTaiChinh_06105!$B$18:$D$87,3,0) -> 0 | E10: =+VLOOKUP(B10,BCTinhHinhTaiChinh_06105!$B$18:$E$87,4,0) -> 0
A11: Trong đó: Phải thu khó đòi về bán các khoản đầu tư | B11: 132 | D11: 0 | E11: 0
A12: 3.2. Phải thu và dự thu cổ tức, tiền lãi các khoản đầu tư | B12: 133 | D12: =+VLOOKUP(B12,BCTinhHinhTaiChinh_06105!$B$18:$D$87,3,0) -> 655870574 | E12: =+VLOOKUP(B12,BCTinhHinhTaiChinh_06105!$B$18:$E$87,4,0) -> 863582461
A13: 3.2.1. Phải thu cổ tức, tiền lãi đến ngày nhận | B13: 134 | D13: =+VLOOKUP(B13,BCTinhHinhTaiChinh_06105!$B$18:$D$87,3,0) -> 0 | E13: =+VLOOKUP(B13,BCTinhHinhTaiChinh_06105!$B$18:$E$87,4,0) -> 0
A14: Trong đó: Phải thu khó đòi về cổ tức, tiền lãi đến ngày nhận nhưng chưa nhận được | B14: 135 | D14: =BCTinhHinhTaiChinh_06105!D37 -> 0 | E14: =BCTinhHinhTaiChinh_06105!E37 -> 0
A15: 3.2.2 Dự thu cổ tức, tiền lãi chưa đến ngày nhận | B15: 136 | D15: =+VLOOKUP(B15,BCTinhHinhTaiChinh_06105!$B$18:$D$87,3,0) -> 655870574 | E15: =+VLOOKUP(B15,BCTinhHinhTaiChinh_06105!$B$18:$E$87,4,0) -> 863582461
A16: 3.3. Các khoản phải thu khác | B16: 137 | D16: =+VLOOKUP(B16,BCTinhHinhTaiChinh_06105!$B$18:$D$87,3,0) -> 0 | E16: =+VLOOKUP(B16,BCTinhHinhTaiChinh_06105!$B$18:$E$87,4,0) -> 0
A17: 3.4. Dự phòng nợ phải thu khó đòi (*) | B17: 138 | D17: =+VLOOKUP(B17,BCTinhHinhTaiChinh_06105!$B$18:$D$87,3,0) -> 0 | E17: =+VLOOKUP(B17,BCTinhHinhTaiChinh_06105!$B$18:$E$87,4,0) -> 0
A18: TỔNG TÀI SẢN | B18: 100 | D18: =+VLOOKUP(B18,BCTinhHinhTaiChinh_06105!$B$18:$D$87,3,0) -> 68731506614 | E18: =+VLOOKUP(B18,BCTinhHinhTaiChinh_06105!$B$18:$E$87,4,0) -> 63083022079
A19: II. NỢ PHẢI TRẢ | B19: II | D19: =+VLOOKUP(B19,BCTinhHinhTaiChinh_06105!$B$18:$D$87,3,0) -> 0 | E19: =+VLOOKUP(B19,BCTinhHinhTaiChinh_06105!$B$18:$E$87,4,0) -> 0
A20: 1. Vay ngắn hạn | B20: 311 | D20: =+VLOOKUP(B20,BCTinhHinhTaiChinh_06105!$B$18:$D$87,3,0) -> 0 | E20: =+VLOOKUP(B20,BCTinhHinhTaiChinh_06105!$B$18:$E$87,4,0) -> 0
A21: 2. Phải trả về mua các khoản đầu tư | B21: 312 | D21: =+VLOOKUP(B21,BCTinhHinhTaiChinh_06105!$B$18:$D$87,3,0) -> 0 | E21: =+VLOOKUP(B21,BCTinhHinhTaiChinh_06105!$B$18:$E$87,4,0) -> 109780000
A22: 3. Phải trả cho các Đại lý phân phối Chứng chỉ quỹ | B22: 313 | D22: =+VLOOKUP(B22,BCTinhHinhTaiChinh_06105!$B$18:$D$87,3,0) -> 15000573 | E22: =+VLOOKUP(B22,BCTinhHinhTaiChinh_06105!$B$18:$E$87,4,0) -> 13259072
